BEGIN:VCALENDAR
VERSION:2.0
PRODID:-//The Lakes at St. David RV Resort - ECPv6.15.20//NONSGML v1.0//EN
CALSCALE:GREGORIAN
METHOD:PUBLISH
X-WR-CALNAME:The Lakes at St. David RV Resort
X-ORIGINAL-URL:https://thelakesatstdavid.com
X-WR-CALDESC:Events for The Lakes at St. David RV Resort
REFRESH-INTERVAL;VALUE=DURATION:PT1H
X-Robots-Tag:noindex
X-PUBLISHED-TTL:PT1H
BEGIN:VTIMEZONE
TZID:America/Phoenix
BEGIN:STANDARD
TZOFFSETFROM:-0700
TZOFFSETTO:-0700
TZNAME:MST
DTSTART:20220101T000000
END:STANDARD
END:VTIMEZONE
BEGIN:VEVENT
DTSTART;TZID=America/Phoenix:20231118T110000
DTEND;TZID=America/Phoenix:20231118T140000
DTSTAMP:20260421T042615
CREATED:20231115T213248Z
LAST-MODIFIED:20231124T183557Z
UID:10000001-1700305200-1700316000@thelakesatstdavid.com
SUMMARY:Creative Saturday
DESCRIPTION:Saturday\, November 18th\, join us for an inspiring Paint Class at 11:00 AM in the Activity Room of our main clubhouse. \nLet your creativity flow under the guidance of our talented staff member\, Alisha Gibbs! \nFor just $10 at the door\, we provide everything you need: \n\nAn 8 x 10 Canvas\nA variety of Paints\nBrushes\nEasels\nWater cups for brush cleaning\nPaper towels\n\nWhether you’re an experienced artist or a beginner\, this class is a fantastic way to express yourself creatively. Connect with fellow residents and guests while you paint your own canvas masterpiece. \nNo pre-registration required – just bring your enthusiasm and we’ll take care of the rest! \n📍 Location: Activity Room\, Main Clubhouse \n⏰ Time: Saturday\, November 18th at 11:00 AM \n💰 Cost: $10 (all supplies included) \nDon’t miss this chance to learn from Alisha and enjoy a morning filled with art and community spirit at The Lakes at St. David.
URL:https://thelakesatstdavid.com/event/creative-saturday-at-the-lakes/
LOCATION:Clubhouse Activity Room\, 801 S Lee St\, Saint David\, AZ\, 85630\, United States
ATTACH;FMTTYPE=image/jpeg:https://thelakesatstdavid.com/wp-content/uploads/2023/11/Painting-Class.jpg
END:VEVENT
END:VCALENDAR